BEGIN:VCALENDAR
VERSION:2.0
PRODID:-//ChamberMaster//Event Calendar 2.0//EN
METHOD:PUBLISH
X-PUBLISHED-TTL:P3D
REFRESH-INTERVAL:P3D
CALSCALE:GREGORIAN
BEGIN:VEVENT
DTSTART;VALUE=DATE:20170511
DTEND;VALUE=DATE:20170512
TRANSP:TRANSPARENT
X-MICROSOFT-CDO-ALLDAYEVENT:TRUE
SUMMARY:Carbon Capture Summit
DESCRIPTION:The day will consist of a tour of the Carbon Capture Unit in the morning (for attendees with a full day pass)\, and a summit in the afternoon with a variety of speakers   including a special presentation from The Government of Saskatchewan with The Minister of the Environment\, the Honourable Scott Moe\, followed by the Spirit of Saskatchewan Reception that evening.\n\n\n\nSPEAKERS:\n\n\n\nSaskPower\n\nBD3 and carbon capture - David Jobe\, Director of Carbon Capture and Chemical Services\n\nThe Future of CCS - Ian Yeates\,  Director\, Supply Development (Carbon Capture)\n\n \n\nCENOVUS\n\nThe Weyburn Unit   A Proud History of Innovation\n\nAdlai Majer\, Development Group Lead & Vlad Vikalo\, Sr. Staff Engineer\n\n \n\nPTRC\n\nNorm Sacuta - Aquistore: An update two years after injection\n\n \n\nGovernment of Saskatchewan\n\nMinister of Environment\, The Honourable Scott Moe\n\n\n\n\n\n\n\nSPIRIT OF SASKATCHEWAN RECEPTION:\n\n\n\nAn evening to mingle and network with attendees and speakers. It will also be an opportunity to indulge in Saskatchewan made wine\, beer and food!
X-ALT-DESC;FMTTYPE=text/html:The day will consist of a tour of the Carbon Capture Unit in the morning (for attendees with a full day pass)\, and a summit in the afternoon with a variety of speakers &ndash\; including a special presentation from The Government of Saskatchewan with The Minister of the Environment\, the Honourable Scott Moe\, followed by the Spirit of Saskatchewan Reception that evening.<br />\n<br />\n<span style="font-size:18px\;"><strong>SPEAKERS:</strong></span><br />\n<br />\nSaskPower<br />\nBD3 and carbon capture - David&nbsp\;Jobe\, Director of Carbon Capture and Chemical Services<br />\nThe Future of CCS - Ian&nbsp\;Yeates\,&nbsp\; Director\, Supply Development (Carbon Capture)<br />\n&nbsp\;<br />\nCENOVUS<br />\nThe&nbsp\;Weyburn&nbsp\;Unit &ndash\;&nbsp\;<em>A Proud History of Innovation</em><br />\nAdlai&nbsp\;Majer\, Development Group Lead &amp\;&nbsp\;Vlad&nbsp\;Vikalo\, Sr. Staff Engineer<br />\n&nbsp\;<br />\nPTRC<br />\n<span style="font-family:arial\;"><span style="font-size:14px\;">Norm Sacuta -&nbsp\;Aquistore: An update two years after injection</span></span><br />\n&nbsp\;<br />\nGovernment of Saskatchewan<br />\nMinister of Environment\, The&nbsp\;Honourable&nbsp\;Scott Moe<br />\n<br />\n<br />\n<br />\n<span style="font-size:18px\;"><strong>SPIRIT OF SASKATCHEWAN RECEPTION:</strong></span><br />\n<br />\nAn evening to mingle and network with attendees and speakers. It will also be an opportunity to indulge in Saskatchewan made wine\, beer and food!
LOCATION:Southeast College Breakfast\, Afternoon Sessions & Reception 532 Bourquin Road\, Estevan\, SK Bus for the tour will leave from the College and return to the College afterward.
UID:e.2313.3
SEQUENCE:3
DTSTAMP:20260420T192807Z
URL:http://estevanchamber.chambermaster.com/events/details/carbon-capture-summit-3
END:VEVENT

END:VCALENDAR
